BEGIN:VCALENDAR
VERSION:2.0
PRODID:-//Shri Goudiya Vedanta Samiti Trust - ECPv6.15.20//NONSGML v1.0//EN
CALSCALE:GREGORIAN
METHOD:PUBLISH
X-WR-CALNAME:Shri Goudiya Vedanta Samiti Trust
X-ORIGINAL-URL:https://www.gvst.in
X-WR-CALDESC:Events for Shri Goudiya Vedanta Samiti Trust
REFRESH-INTERVAL;VALUE=DURATION:PT1H
X-Robots-Tag:noindex
X-PUBLISHED-TTL:PT1H
BEGIN:VTIMEZONE
TZID:Asia/Kolkata
BEGIN:STANDARD
TZOFFSETFROM:+0530
TZOFFSETTO:+0530
TZNAME:IST
DTSTART:20230101T000000
END:STANDARD
END:VTIMEZONE
BEGIN:VEVENT
DTSTART;VALUE=DATE:20240309
DTEND;VALUE=DATE:20240310
DTSTAMP:20260423T032906
CREATED:20240306T092730Z
LAST-MODIFIED:20240306T092730Z
UID:1383-1709942400-1710028799@www.gvst.in
SUMMARY:09th March\, 2024 - Maha Siva-ratri
DESCRIPTION:
URL:https://www.gvst.in/event/09th-march-2024-maha-siva-ratri/
ATTACH;FMTTYPE=image/jpeg:https://www.gvst.in/wp-content/uploads/2024/03/09.jpeg
END:VEVENT
BEGIN:VEVENT
DTSTART;VALUE=DATE:20240307
DTEND;VALUE=DATE:20240308
DTSTAMP:20260423T032906
CREATED:20240306T090859Z
LAST-MODIFIED:20240306T090859Z
UID:1380-1709769600-1709855999@www.gvst.in
SUMMARY:07th March\, 2024 - Sri Isvara Puri Disappearance day Festival
DESCRIPTION:
URL:https://www.gvst.in/event/07th-march-2024-sri-isvara-puri-disappearance-day-festival/
ATTACH;FMTTYPE=image/jpeg:https://www.gvst.in/wp-content/uploads/2024/03/07th-march.jpeg
END:VEVENT
BEGIN:VEVENT
DTSTART;VALUE=DATE:20240306
DTEND;VALUE=DATE:20240307
DTSTAMP:20260423T032906
CREATED:20240306T090520Z
LAST-MODIFIED:20240306T090520Z
UID:1377-1709683200-1709769599@www.gvst.in
SUMMARY:06 March\, 2024- Vijaya Ekadashi
DESCRIPTION:
URL:https://www.gvst.in/event/06-march-2024-vijaya-ekadashi/
ATTACH;FMTTYPE=image/png:https://www.gvst.in/wp-content/uploads/2024/03/Untitled-2.png
END:VEVENT
BEGIN:VEVENT
DTSTART;VALUE=DATE:20240229
DTEND;VALUE=DATE:20240301
DTSTAMP:20260423T032906
CREATED:20240229T002144Z
LAST-MODIFIED:20240229T002144Z
UID:1372-1709164800-1709251199@www.gvst.in
SUMMARY:29th Feb - Srila Bhakti Siddhanta Saraswati Thakur Prabhupada
DESCRIPTION:
URL:https://www.gvst.in/event/29th-feb-srila-bhakti-siddhanta-saraswati-thakur-prabhupada/
ATTACH;FMTTYPE=image/jpeg:https://www.gvst.in/wp-content/uploads/2024/02/WhatsApp-Image-2024-02-27-at-8.16.25-PM.jpeg
END:VEVENT
BEGIN:VEVENT
DTSTART;VALUE=DATE:20240227
DTEND;VALUE=DATE:20240228
DTSTAMP:20260423T032906
CREATED:20240229T002034Z
LAST-MODIFIED:20240229T002034Z
UID:1359-1708992000-1709078399@www.gvst.in
SUMMARY:27th Feb - 126th Appearance Day of Srila Bhakti Prajana Kesava Goswami Maharaja
DESCRIPTION:
URL:https://www.gvst.in/event/srila-bhakti-prajana-kesava-goswami-maharaja/
ATTACH;FMTTYPE=image/jpeg:https://www.gvst.in/wp-content/uploads/2024/02/WhatsApp-Image-2024-02-26-at-8.57.23-AM.jpeg
END:VEVENT
BEGIN:VEVENT
DTSTART;VALUE=DATE:20240224
DTEND;VALUE=DATE:20240225
DTSTAMP:20260423T032906
CREATED:20240224T022544Z
LAST-MODIFIED:20240224T022544Z
UID:1354-1708732800-1708819199@www.gvst.in
SUMMARY:24th Feb - Appearance day of Srila Narottama Dasa Thakura
DESCRIPTION:
URL:https://www.gvst.in/event/24th-feb-appearance-day-of-srila-narottama-dasa-thakura/
ATTACH;FMTTYPE=image/jpeg:https://www.gvst.in/wp-content/uploads/2024/02/Narottam-dasa-Thakur.jpeg
END:VEVENT
BEGIN:VEVENT
DTSTART;VALUE=DATE:20240222
DTEND;VALUE=DATE:20240223
DTSTAMP:20260423T032906
CREATED:20240224T022229Z
LAST-MODIFIED:20240224T022319Z
UID:1351-1708560000-1708646399@www.gvst.in
SUMMARY:22nd Feb - Sri Nityananda Trayodashi
DESCRIPTION:
URL:https://www.gvst.in/event/22nd-feb-sri-nityananda-trayodashi/
ATTACH;FMTTYPE=image/jpeg:https://www.gvst.in/wp-content/uploads/2024/02/Nityananda-Trayodashi.jpeg
END:VEVENT
BEGIN:VEVENT
DTSTART;VALUE=DATE:20240220
DTEND;VALUE=DATE:20240221
DTSTAMP:20260423T032906
CREATED:20240220T170953Z
LAST-MODIFIED:20240224T140322Z
UID:1339-1708387200-1708473599@www.gvst.in
SUMMARY:Bhaimi Ekadasi
DESCRIPTION:Break fast 06:05 – 09:55
URL:https://www.gvst.in/event/bhaimi-ekadashi/
ATTACH;FMTTYPE=image/webp:https://www.gvst.in/wp-content/uploads/2024/02/tovp-bhaimi-ekadasi-2024-post-web.jpg.webp
END:VEVENT
BEGIN:VEVENT
DTSTART;VALUE=DATE:20240219
DTEND;VALUE=DATE:20240220
DTSTAMP:20260423T032906
CREATED:20240215T023319Z
LAST-MODIFIED:20240215T030409Z
UID:1181-1708300800-1708387199@www.gvst.in
SUMMARY:19th Feb\, 2024 – Sri Ramanujacarya
DESCRIPTION:
URL:https://www.gvst.in/event/19th-feb-2024-sri-ramanujacarya/
ATTACH;FMTTYPE=image/jpeg:https://www.gvst.in/wp-content/uploads/2024/02/Sri-Ramanuja-Acharya.jpg
END:VEVENT
BEGIN:VEVENT
DTSTART;VALUE=DATE:20240218
DTEND;VALUE=DATE:20240219
DTSTAMP:20260423T032906
CREATED:20240215T022144Z
LAST-MODIFIED:20240215T033701Z
UID:1176-1708214400-1708300799@www.gvst.in
SUMMARY:18th Feb\, 2024 – Sri Madhvacharya Disappearance Day
DESCRIPTION:
URL:https://www.gvst.in/event/18th-feb-2024-sri-madhvacharya-disappearance-day/
ATTACH;FMTTYPE=image/jpeg:https://www.gvst.in/wp-content/uploads/2024/02/Sri-Madhvacarya-Disappearance-Day.jpg
END:VEVENT
BEGIN:VEVENT
DTSTART;VALUE=DATE:20240216
DTEND;VALUE=DATE:20240217
DTSTAMP:20260423T032906
CREATED:20240215T021913Z
LAST-MODIFIED:20240215T033726Z
UID:1173-1708041600-1708127999@www.gvst.in
SUMMARY:16th Feb\, 2024 – Sri Advaita Saptami
DESCRIPTION:
URL:https://www.gvst.in/event/16th-feb-2024-sri-advaita-saptami/
ATTACH;FMTTYPE=image/jpeg:https://www.gvst.in/wp-content/uploads/2024/02/Sri-Advaita-Saptami.jpg
END:VEVENT
BEGIN:VEVENT
DTSTART;VALUE=DATE:20240214
DTEND;VALUE=DATE:20240215
DTSTAMP:20260423T032906
CREATED:20240214T021704Z
LAST-MODIFIED:20240215T023412Z
UID:1170-1707868800-1707955199@www.gvst.in
SUMMARY:14th Feb\, 2024 – Sri vasantaPancami\, Sri Vishnu Priya Devi Apperance day\, Sri saraswati Puja
DESCRIPTION:
URL:https://www.gvst.in/event/14th-feb-2024-sri-vasantapancami-sri-vishnu-priya-devi-apperance-day-sri-saraswati-puja/
ATTACH;FMTTYPE=image/jpeg:https://www.gvst.in/wp-content/uploads/2024/02/Sri-vasantaPancami.jpg
END:VEVENT
BEGIN:VEVENT
DTSTART;VALUE=DATE:20240209
DTEND;VALUE=DATE:20240210
DTSTAMP:20260423T032906
CREATED:20240209T043555Z
LAST-MODIFIED:20240215T023423Z
UID:644-1707436800-1707523199@www.gvst.in
SUMMARY:9thFeb\, 2024 – Sri Srimad Bhakti Vedanta Narayan GoswamiMaharaj Appearance day Festival
DESCRIPTION:
URL:https://www.gvst.in/event/9thfeb-2024-sri-srimad-bhakti-vedanta-narayan-goswamimaharaj-appearance-day-festival/
ATTACH;FMTTYPE=image/jpeg:https://www.gvst.in/wp-content/uploads/2024/02/Sri-Srimad-Bhakti-Vedanta-Narayan-GoswamiMaharaj-Appearance-day.jpg
END:VEVENT
END:VCALENDAR