BEGIN:VCALENDAR
VERSION:2.0
PRODID:-//Shri Goudiya Vedanta Samiti Trust - ECPv6.15.20//NONSGML v1.0//EN
CALSCALE:GREGORIAN
METHOD:PUBLISH
X-ORIGINAL-URL:https://www.gvst.in
X-WR-CALDESC:Events for Shri Goudiya Vedanta Samiti Trust
REFRESH-INTERVAL;VALUE=DURATION:PT1H
X-Robots-Tag:noindex
X-PUBLISHED-TTL:PT1H
BEGIN:VTIMEZONE
TZID:Asia/Kolkata
BEGIN:STANDARD
TZOFFSETFROM:+0530
TZOFFSETTO:+0530
TZNAME:IST
DTSTART:20240101T000000
END:STANDARD
END:VTIMEZONE
BEGIN:VEVENT
DTSTART;VALUE=DATE:20250418
DTEND;VALUE=DATE:20250419
DTSTAMP:20260422T182625
CREATED:20250414T152450Z
LAST-MODIFIED:20250414T163836Z
UID:1820-1744934400-1745020799@www.gvst.in
SUMMARY:18th April\, 2025 - Sri Akinchana Krsnadasa Babaji Maharaja Disappearance day
DESCRIPTION:18th April\, 2025 – Sri Akinchana Krsnadasa Babaji Maharaja Disappearance day
URL:https://www.gvst.in/event/18th-april-2025-sri-akinchana-krsnadasa-babaji-maharaja-disappearance-day/
END:VEVENT
BEGIN:VEVENT
DTSTART;VALUE=DATE:20250414
DTEND;VALUE=DATE:20250415
DTSTAMP:20260422T182625
CREATED:20250414T152341Z
LAST-MODIFIED:20250414T152341Z
UID:1818-1744588800-1744675199@www.gvst.in
SUMMARY:14th April\, 2025 - Kesava Vrata Begins (14th April - 15th May )
DESCRIPTION:14th April\, 2025 – Kesava Vrata Begins (14th April – 15th May )
URL:https://www.gvst.in/event/14th-april-2025-kesava-vrata-begins-14th-april-15th-may/
END:VEVENT
BEGIN:VEVENT
DTSTART;VALUE=DATE:20250412
DTEND;VALUE=DATE:20250413
DTSTAMP:20260422T182625
CREATED:20250414T152256Z
LAST-MODIFIED:20250414T152256Z
UID:1816-1744416000-1744502399@www.gvst.in
SUMMARY:12th April\, 2025 - Appearance day of Sri Shyamananda Prabhu
DESCRIPTION:12th April\, 2025 – Appearance day of Sri Shyamananda Prabhu & Sri Vamsivadan Prabhu \nRasa Yatra of Lord Balarama \nVasanta Rasa Yatra of Sri Krsna
URL:https://www.gvst.in/event/12th-april-2025-appearance-day-of-sri-shyamananda-prabhu/
END:VEVENT
BEGIN:VEVENT
DTSTART;VALUE=DATE:20250408
DTEND;VALUE=DATE:20250409
DTSTAMP:20260422T182625
CREATED:20250414T152114Z
LAST-MODIFIED:20250414T152114Z
UID:1814-1744070400-1744156799@www.gvst.in
SUMMARY:8th April\, 2025 - Kamada Ekadasi
DESCRIPTION:8th April\, 2025 – Kamada Ekadasi \nParan next day – till 9:34 am.
URL:https://www.gvst.in/event/8th-april-2025-kamada-ekadasi/
END:VEVENT
BEGIN:VEVENT
DTSTART;VALUE=DATE:20250406
DTEND;VALUE=DATE:20250407
DTSTAMP:20260422T182625
CREATED:20250414T151952Z
LAST-MODIFIED:20250414T152023Z
UID:1811-1743897600-1743983999@www.gvst.in
SUMMARY:6th April\, 2025 - Sri Rama Navami
DESCRIPTION:6th April\, 2025 – Sri Rama Navami & Appearance day of Bhakti Vallabh Tirtha Maharaja \nParan Next day – till 9:35 a.m.
URL:https://www.gvst.in/event/6th-april-2025-sri-rama-navami/
END:VEVENT
BEGIN:VEVENT
DTSTART;VALUE=DATE:20250404
DTEND;VALUE=DATE:20250405
DTSTAMP:20260422T182625
CREATED:20250414T151852Z
LAST-MODIFIED:20250414T151852Z
UID:1809-1743724800-1743811199@www.gvst.in
SUMMARY:4th April\, 2025 - Appearance day of Srila Bhakti Vilas Tirtha Maharaja
DESCRIPTION:4th April\, 2025 – Appearance day of Srila Bhakti Vilas Tirtha Maharaja
URL:https://www.gvst.in/event/4th-april-2025-appearance-day-of-srila-bhakti-vilas-tirtha-maharaja/
END:VEVENT
BEGIN:VEVENT
DTSTART;VALUE=DATE:20250403
DTEND;VALUE=DATE:20250404
DTSTAMP:20260422T182625
CREATED:20250414T151809Z
LAST-MODIFIED:20250414T151809Z
UID:1807-1743638400-1743724799@www.gvst.in
SUMMARY:3rd April\, 2025 - Appearance day of Sri Ramanujacarya
DESCRIPTION:3rd April\, 2025 – Appearance day of Sri Ramanujacarya & Srila Bhati Hridoy Vana Goswami Maharaja
URL:https://www.gvst.in/event/3rd-april-2025-appearance-day-of-sri-ramanujacarya/
END:VEVENT
BEGIN:VEVENT
DTSTART;VALUE=DATE:20250329
DTEND;VALUE=DATE:20250330
DTSTAMP:20260422T182625
CREATED:20250414T151657Z
LAST-MODIFIED:20250414T151657Z
UID:1805-1743206400-1743292799@www.gvst.in
SUMMARY:29th March\, 2025 - Amavasya
DESCRIPTION:29th March\, 2025 – Amavasya
URL:https://www.gvst.in/event/29th-march-2025-amavasya/
END:VEVENT
BEGIN:VEVENT
DTSTART;VALUE=DATE:20250326
DTEND;VALUE=DATE:20250327
DTSTAMP:20260422T182625
CREATED:20250414T151629Z
LAST-MODIFIED:20250414T151629Z
UID:1803-1742947200-1743033599@www.gvst.in
SUMMARY:26th March\, 2025 - Sri Govinda Ghosh Disappearance day
DESCRIPTION:26th March\, 2025 – Sri Govinda Ghosh Disappearance day \nParan time – till 9:42 a.m
URL:https://www.gvst.in/event/26th-march-2025-sri-govinda-ghosh-disappearance-day/
END:VEVENT
BEGIN:VEVENT
DTSTART;VALUE=DATE:20250325
DTEND;VALUE=DATE:20250326
DTSTAMP:20260422T182625
CREATED:20250414T151523Z
LAST-MODIFIED:20250414T151523Z
UID:1801-1742860800-1742947199@www.gvst.in
SUMMARY:25th March\, 2025 - Papmochini Ekadasi
DESCRIPTION:25th March\, 2025 – Papmochini Ekadasi
URL:https://www.gvst.in/event/25th-march-2025-papmochini-ekadasi/
END:VEVENT
BEGIN:VEVENT
DTSTART;VALUE=DATE:20250322
DTEND;VALUE=DATE:20250323
DTSTAMP:20260422T182625
CREATED:20250414T151434Z
LAST-MODIFIED:20250414T151434Z
UID:1799-1742601600-1742687999@www.gvst.in
SUMMARY:22nd March\, 2025 - Sri Srivas Pandit Appearance day
DESCRIPTION:22nd March\, 2025 – Sri Srivas Pandit Appearance day
URL:https://www.gvst.in/event/22nd-march-2025-sri-srivas-pandit-appearance-day/
END:VEVENT
BEGIN:VEVENT
DTSTART;TZID=Asia/Kolkata:20250315T080000
DTEND;TZID=Asia/Kolkata:20250315T170000
DTSTAMP:20260422T182625
CREATED:20250414T151338Z
LAST-MODIFIED:20250414T151338Z
UID:1797-1742025600-1742058000@www.gvst.in
SUMMARY:15th March\, 2025 - Festival of Jagannath Misra
DESCRIPTION:15th March\, 2025 – Festival of Jagannath Misra \nParan time – till 9:47 a.m
URL:https://www.gvst.in/event/15th-march-2025-festival-of-jagannath-misra/
END:VEVENT
BEGIN:VEVENT
DTSTART;VALUE=DATE:20250314
DTEND;VALUE=DATE:20250315
DTSTAMP:20260422T182625
CREATED:20250414T151249Z
LAST-MODIFIED:20250414T151249Z
UID:1795-1741910400-1741996799@www.gvst.in
SUMMARY:14th March\, 2025 - Sri Gaura Purnima
DESCRIPTION:14th March\, 2025 – Sri Gaura Purnima \nGaurabda 538 Ends and Gaurabda 539 begins
URL:https://www.gvst.in/event/14th-march-2025-sri-gaura-purnima/
END:VEVENT
BEGIN:VEVENT
DTSTART;VALUE=DATE:20250311
DTEND;VALUE=DATE:20250312
DTSTAMP:20260422T182625
CREATED:20250414T151144Z
LAST-MODIFIED:20250414T151144Z
UID:1793-1741651200-1741737599@www.gvst.in
SUMMARY:11th March\, 2025 - Disappearance of Srila Madhavendra Puri
DESCRIPTION:11th March\, 2025 – Disappearance of Srila Madhavendra Puri
URL:https://www.gvst.in/event/11th-march-2025-disappearance-of-srila-madhavendra-puri/
END:VEVENT
BEGIN:VEVENT
DTSTART;VALUE=DATE:20250310
DTEND;VALUE=DATE:20250311
DTSTAMP:20260422T182625
CREATED:20250414T151019Z
LAST-MODIFIED:20250414T151019Z
UID:1791-1741564800-1741651199@www.gvst.in
SUMMARY:10th March\, 2025 - Amalaki Ekadasi
DESCRIPTION:10th March\, 2025 – Amalaki Ekadasi \nParan Next Day 11th March – After Sunrise till 9:30 a.m
URL:https://www.gvst.in/event/10th-march-2025-amalaki-ekadasi/
END:VEVENT
BEGIN:VEVENT
DTSTART;TZID=Asia/Kolkata:20250309T080000
DTEND;TZID=Asia/Kolkata:20250309T170000
DTSTAMP:20260422T182625
CREATED:20250414T150918Z
LAST-MODIFIED:20250414T150918Z
UID:1789-1741507200-1741539600@www.gvst.in
SUMMARY:09th March\, 2025 - Sridham Navadipa Parikrama Begins
DESCRIPTION:09th March\, 2025 – Sridham Navadipa Parikrama Begins
URL:https://www.gvst.in/event/09th-march-2025-sridham-navadipa-parikrama-begins/
END:VEVENT
BEGIN:VEVENT
DTSTART;VALUE=DATE:20250308
DTEND;VALUE=DATE:20250309
DTSTAMP:20260422T182625
CREATED:20250414T150838Z
LAST-MODIFIED:20250414T150838Z
UID:1787-1741392000-1741478399@www.gvst.in
SUMMARY:08th March\, 2025 - Sridham Navadipa Parikrama Sankalpa
DESCRIPTION:08th March\, 2025 – Sridham Navadipa Parikrama Sankalpa
URL:https://www.gvst.in/event/08th-march-2025-sridham-navadipa-parikrama-sankalpa/
END:VEVENT
BEGIN:VEVENT
DTSTART;VALUE=DATE:20250307
DTEND;VALUE=DATE:20250308
DTSTAMP:20260422T182625
CREATED:20250414T150759Z
LAST-MODIFIED:20250414T150759Z
UID:1785-1741305600-1741391999@www.gvst.in
SUMMARY:07th March\, 2025 - Disappearance day of Sripada Bhaktivedanta Tirtha Maharaja
DESCRIPTION:07th March\, 2025 – Disappearance day of Sripada Bhaktivedanta Tirtha Maharaja
URL:https://www.gvst.in/event/07th-march-2025-disappearance-day-of-sripada-bhaktivedanta-tirtha-maharaja/
END:VEVENT
BEGIN:VEVENT
DTSTART;VALUE=DATE:20250306
DTEND;VALUE=DATE:20250307
DTSTAMP:20260422T182625
CREATED:20250414T150713Z
LAST-MODIFIED:20250414T150713Z
UID:1783-1741219200-1741305599@www.gvst.in
SUMMARY:06th March\, 2025 - Disappearance day of Sri Bhakti Vaibhava Puri Goswami Maharaja
DESCRIPTION:06th March\, 2025 – Disappearance day of Sri Bhakti Vaibhava Puri Goswami Maharaja
URL:https://www.gvst.in/event/06th-march-2025-disappearance-day-of-sri-bhakti-vaibhava-puri-goswami-maharaja/
END:VEVENT
BEGIN:VEVENT
DTSTART;VALUE=DATE:20250305
DTEND;VALUE=DATE:20250306
DTSTAMP:20260422T182625
CREATED:20250414T150625Z
LAST-MODIFIED:20250414T150625Z
UID:1781-1741132800-1741219199@www.gvst.in
SUMMARY:05th March\, 2025 - Disappearance day of Sri Bhakti Sarvasa Govinda Maharaja
DESCRIPTION:05th March\, 2025 – Disappearance day of Sri Bhakti Sarvasa Govinda Maharaja
URL:https://www.gvst.in/event/05th-march-2025-disappearance-day-of-sri-bhakti-sarvasa-govinda-maharaja/
END:VEVENT
BEGIN:VEVENT
DTSTART;VALUE=DATE:20250301
DTEND;VALUE=DATE:20250302
DTSTAMP:20260422T182625
CREATED:20250414T150512Z
LAST-MODIFIED:20250414T150512Z
UID:1779-1740787200-1740873599@www.gvst.in
SUMMARY:01st March\, 2025 - Disappearance day of Sri Jagannath Das Babaji Maharaja
DESCRIPTION:01st March\, 2025 – Disappearance day of Sri Jagannath Das Babaji Maharaja & Srila BhaktiDayita Madhava Goswami Maharaja
URL:https://www.gvst.in/event/01st-march-2025-disappearance-day-of-sri-jagannath-das-babaji-maharaja/
END:VEVENT
BEGIN:VEVENT
DTSTART;VALUE=DATE:20250228
DTEND;VALUE=DATE:20250301
DTSTAMP:20260422T182625
CREATED:20250414T150352Z
LAST-MODIFIED:20250414T150352Z
UID:1777-1740700800-1740787199@www.gvst.in
SUMMARY:28th February\, 2025 - Amavasya
DESCRIPTION:28th February\, 2025 – Amavasya
URL:https://www.gvst.in/event/28th-february-2025-amavasya/
END:VEVENT
BEGIN:VEVENT
DTSTART;VALUE=DATE:20250227
DTEND;VALUE=DATE:20250228
DTSTAMP:20260422T182625
CREATED:20250414T150325Z
LAST-MODIFIED:20250414T150325Z
UID:1775-1740614400-1740700799@www.gvst.in
SUMMARY:27th February\, 2025 - Sri Siva Ratri Vrata
DESCRIPTION:27th February\, 2025 – Sri Siva Ratri Vrata
URL:https://www.gvst.in/event/27th-february-2025-sri-siva-ratri-vrata/
END:VEVENT
BEGIN:VEVENT
DTSTART;VALUE=DATE:20250224
DTEND;VALUE=DATE:20250225
DTSTAMP:20260422T182625
CREATED:20250414T150234Z
LAST-MODIFIED:20250414T150234Z
UID:1773-1740355200-1740441599@www.gvst.in
SUMMARY:24th February\, 2025 - Vijaya Ekadasi
DESCRIPTION:24th February\, 2025 – Vijaya Ekadasi \nParan Next Day 25th February – After Sunrise till 9:56 a.m
URL:https://www.gvst.in/event/24th-february-2025-vijaya-ekadasi/
END:VEVENT
BEGIN:VEVENT
DTSTART;VALUE=DATE:20250217
DTEND;VALUE=DATE:20250218
DTSTAMP:20260422T182625
CREATED:20250414T150109Z
LAST-MODIFIED:20250414T150109Z
UID:1771-1739750400-1739836799@www.gvst.in
SUMMARY:17th Feb\, 2025 - 151st Appearance Day of Srila BhaktiSiddhanta Saraswati Goswami Thakura Prabhupada
DESCRIPTION:17th Feb\, 2025 – 151st Appearance Day of Srila BhaktiSiddhanta Saraswati Goswami Thakura Prabhupada \n 
URL:https://www.gvst.in/event/17th-feb-2025-151st-appearance-day-of-srila-bhaktisiddhanta-saraswati-goswami-thakura-prabhupada/
END:VEVENT
BEGIN:VEVENT
DTSTART;VALUE=DATE:20250215
DTEND;VALUE=DATE:20250216
DTSTAMP:20260422T182625
CREATED:20250414T145857Z
LAST-MODIFIED:20250414T145857Z
UID:1768-1739577600-1739663999@www.gvst.in
SUMMARY:15th Feb\, 2025 - 127th Appearance Day of Srila Bhakti Prajana Kesava Goswami Maharaja
DESCRIPTION:15th Feb\, 2025 – 127th Appearance Day of Srila Bhakti Prajana Kesava Goswami Maharaja
URL:https://www.gvst.in/event/15th-feb-2025-127th-appearance-day-of-srila-bhakti-prajana-kesava-goswami-maharaja/
END:VEVENT
BEGIN:VEVENT
DTSTART;VALUE=DATE:20250212
DTEND;VALUE=DATE:20250213
DTSTAMP:20260422T182625
CREATED:20250414T145734Z
LAST-MODIFIED:20250414T145751Z
UID:1765-1739318400-1739404799@www.gvst.in
SUMMARY:12th Feb\, 2025 - Appearance Day of Srila Narottam Das Thakura
DESCRIPTION:12th Feb\, 2025 – Appearance Day of Srila Narottam Das Thakura \nMaghi Purnima \nAppearance day of Srimad Bhaktivedanta Madhusudan Maharaja \nSri Krsner Madhur Utsava \n 
URL:https://www.gvst.in/event/12th-feb-2025-appearance-day-of-srila-narottam-das-thakura/
END:VEVENT
BEGIN:VEVENT
DTSTART;VALUE=DATE:20250210
DTEND;VALUE=DATE:20250211
DTSTAMP:20260422T182625
CREATED:20250414T145535Z
LAST-MODIFIED:20250414T145535Z
UID:1763-1739145600-1739231999@www.gvst.in
SUMMARY:10th Feb\, 2025 - Sri Nityananda Triyodashi
DESCRIPTION:10th Feb\, 2025 – Sri Nityananda Triyodashi
URL:https://www.gvst.in/event/10th-feb-2025-sri-nityananda-triyodashi/
END:VEVENT
BEGIN:VEVENT
DTSTART;VALUE=DATE:20250209
DTEND;VALUE=DATE:20250210
DTSTAMP:20260422T182625
CREATED:20250414T145447Z
LAST-MODIFIED:20250414T145447Z
UID:1761-1739059200-1739145599@www.gvst.in
SUMMARY:09th Feb\, 2025 - Varahadeva Dvadasi
DESCRIPTION:09th Feb\, 2025 – Varahadeva Dvadasi
URL:https://www.gvst.in/event/09th-feb-2025-varahadeva-dvadasi/
END:VEVENT
BEGIN:VEVENT
DTSTART;VALUE=DATE:20250208
DTEND;VALUE=DATE:20250209
DTSTAMP:20260422T182625
CREATED:20250414T145339Z
LAST-MODIFIED:20250414T145339Z
UID:1759-1738972800-1739059199@www.gvst.in
SUMMARY:08th Feb\, 2025 - Jaya or Bhaimi Ekadashi
DESCRIPTION:08th Feb\, 2025 – Jaya or Bhaimi Ekadashi \nParan Time Next day 09th Feb – After Sunrise till 10 a.m
URL:https://www.gvst.in/event/08th-feb-2025-jaya-or-bhaimi-ekadashi/
END:VEVENT
END:VCALENDAR