BEGIN:VCALENDAR
VERSION:2.0
PRODID:-//Shri Goudiya Vedanta Samiti Trust - ECPv6.15.20//NONSGML v1.0//EN
CALSCALE:GREGORIAN
METHOD:PUBLISH
X-WR-CALNAME:Shri Goudiya Vedanta Samiti Trust
X-ORIGINAL-URL:https://www.gvst.in
X-WR-CALDESC:Events for Shri Goudiya Vedanta Samiti Trust
REFRESH-INTERVAL;VALUE=DURATION:PT1H
X-Robots-Tag:noindex
X-PUBLISHED-TTL:PT1H
BEGIN:VTIMEZONE
TZID:Asia/Kolkata
BEGIN:STANDARD
TZOFFSETFROM:+0530
TZOFFSETTO:+0530
TZNAME:IST
DTSTART:20230101T000000
END:STANDARD
END:VTIMEZONE
BEGIN:VEVENT
DTSTART;VALUE=DATE:20250301
DTEND;VALUE=DATE:20250302
DTSTAMP:20260422T212657
CREATED:20250414T150512Z
LAST-MODIFIED:20250414T150512Z
UID:1779-1740787200-1740873599@www.gvst.in
SUMMARY:01st March\, 2025 - Disappearance day of Sri Jagannath Das Babaji Maharaja
DESCRIPTION:01st March\, 2025 – Disappearance day of Sri Jagannath Das Babaji Maharaja & Srila BhaktiDayita Madhava Goswami Maharaja
URL:https://www.gvst.in/event/01st-march-2025-disappearance-day-of-sri-jagannath-das-babaji-maharaja/
END:VEVENT
BEGIN:VEVENT
DTSTART;VALUE=DATE:20250228
DTEND;VALUE=DATE:20250301
DTSTAMP:20260422T212657
CREATED:20250414T150352Z
LAST-MODIFIED:20250414T150352Z
UID:1777-1740700800-1740787199@www.gvst.in
SUMMARY:28th February\, 2025 - Amavasya
DESCRIPTION:28th February\, 2025 – Amavasya
URL:https://www.gvst.in/event/28th-february-2025-amavasya/
END:VEVENT
BEGIN:VEVENT
DTSTART;VALUE=DATE:20250227
DTEND;VALUE=DATE:20250228
DTSTAMP:20260422T212657
CREATED:20250414T150325Z
LAST-MODIFIED:20250414T150325Z
UID:1775-1740614400-1740700799@www.gvst.in
SUMMARY:27th February\, 2025 - Sri Siva Ratri Vrata
DESCRIPTION:27th February\, 2025 – Sri Siva Ratri Vrata
URL:https://www.gvst.in/event/27th-february-2025-sri-siva-ratri-vrata/
END:VEVENT
BEGIN:VEVENT
DTSTART;VALUE=DATE:20250224
DTEND;VALUE=DATE:20250225
DTSTAMP:20260422T212657
CREATED:20250414T150234Z
LAST-MODIFIED:20250414T150234Z
UID:1773-1740355200-1740441599@www.gvst.in
SUMMARY:24th February\, 2025 - Vijaya Ekadasi
DESCRIPTION:24th February\, 2025 – Vijaya Ekadasi \nParan Next Day 25th February – After Sunrise till 9:56 a.m
URL:https://www.gvst.in/event/24th-february-2025-vijaya-ekadasi/
END:VEVENT
BEGIN:VEVENT
DTSTART;VALUE=DATE:20250217
DTEND;VALUE=DATE:20250218
DTSTAMP:20260422T212657
CREATED:20250414T150109Z
LAST-MODIFIED:20250414T150109Z
UID:1771-1739750400-1739836799@www.gvst.in
SUMMARY:17th Feb\, 2025 - 151st Appearance Day of Srila BhaktiSiddhanta Saraswati Goswami Thakura Prabhupada
DESCRIPTION:17th Feb\, 2025 – 151st Appearance Day of Srila BhaktiSiddhanta Saraswati Goswami Thakura Prabhupada \n 
URL:https://www.gvst.in/event/17th-feb-2025-151st-appearance-day-of-srila-bhaktisiddhanta-saraswati-goswami-thakura-prabhupada/
END:VEVENT
BEGIN:VEVENT
DTSTART;VALUE=DATE:20250215
DTEND;VALUE=DATE:20250216
DTSTAMP:20260422T212657
CREATED:20250414T145857Z
LAST-MODIFIED:20250414T145857Z
UID:1768-1739577600-1739663999@www.gvst.in
SUMMARY:15th Feb\, 2025 - 127th Appearance Day of Srila Bhakti Prajana Kesava Goswami Maharaja
DESCRIPTION:15th Feb\, 2025 – 127th Appearance Day of Srila Bhakti Prajana Kesava Goswami Maharaja
URL:https://www.gvst.in/event/15th-feb-2025-127th-appearance-day-of-srila-bhakti-prajana-kesava-goswami-maharaja/
END:VEVENT
BEGIN:VEVENT
DTSTART;VALUE=DATE:20250212
DTEND;VALUE=DATE:20250213
DTSTAMP:20260422T212657
CREATED:20250414T145734Z
LAST-MODIFIED:20250414T145751Z
UID:1765-1739318400-1739404799@www.gvst.in
SUMMARY:12th Feb\, 2025 - Appearance Day of Srila Narottam Das Thakura
DESCRIPTION:12th Feb\, 2025 – Appearance Day of Srila Narottam Das Thakura \nMaghi Purnima \nAppearance day of Srimad Bhaktivedanta Madhusudan Maharaja \nSri Krsner Madhur Utsava \n 
URL:https://www.gvst.in/event/12th-feb-2025-appearance-day-of-srila-narottam-das-thakura/
END:VEVENT
BEGIN:VEVENT
DTSTART;VALUE=DATE:20250210
DTEND;VALUE=DATE:20250211
DTSTAMP:20260422T212657
CREATED:20250414T145535Z
LAST-MODIFIED:20250414T145535Z
UID:1763-1739145600-1739231999@www.gvst.in
SUMMARY:10th Feb\, 2025 - Sri Nityananda Triyodashi
DESCRIPTION:10th Feb\, 2025 – Sri Nityananda Triyodashi
URL:https://www.gvst.in/event/10th-feb-2025-sri-nityananda-triyodashi/
END:VEVENT
BEGIN:VEVENT
DTSTART;VALUE=DATE:20250209
DTEND;VALUE=DATE:20250210
DTSTAMP:20260422T212657
CREATED:20250414T145447Z
LAST-MODIFIED:20250414T145447Z
UID:1761-1739059200-1739145599@www.gvst.in
SUMMARY:09th Feb\, 2025 - Varahadeva Dvadasi
DESCRIPTION:09th Feb\, 2025 – Varahadeva Dvadasi
URL:https://www.gvst.in/event/09th-feb-2025-varahadeva-dvadasi/
END:VEVENT
BEGIN:VEVENT
DTSTART;VALUE=DATE:20250208
DTEND;VALUE=DATE:20250209
DTSTAMP:20260422T212657
CREATED:20250414T145339Z
LAST-MODIFIED:20250414T145339Z
UID:1759-1738972800-1739059199@www.gvst.in
SUMMARY:08th Feb\, 2025 - Jaya or Bhaimi Ekadashi
DESCRIPTION:08th Feb\, 2025 – Jaya or Bhaimi Ekadashi \nParan Time Next day 09th Feb – After Sunrise till 10 a.m
URL:https://www.gvst.in/event/08th-feb-2025-jaya-or-bhaimi-ekadashi/
END:VEVENT
BEGIN:VEVENT
DTSTART;VALUE=DATE:20250207
DTEND;VALUE=DATE:20250208
DTSTAMP:20260422T212657
CREATED:20250204T074551Z
LAST-MODIFIED:20250204T074551Z
UID:1725-1738886400-1738972799@www.gvst.in
SUMMARY:07th Feb\, 2025 - Disappearance Day of Sri Ramanujacharya
DESCRIPTION:07th Feb\, 2025 – Disappearance Day of Sri Ramanujacharya
URL:https://www.gvst.in/event/07th-feb-2025-disappearance-day-of-sri-ramanujacharya/
END:VEVENT
BEGIN:VEVENT
DTSTART;VALUE=DATE:20250207
DTEND;VALUE=DATE:20250208
DTSTAMP:20260422T212657
CREATED:20250204T073942Z
LAST-MODIFIED:20250204T073942Z
UID:1720-1738886400-1738972799@www.gvst.in
SUMMARY:07th Feb\, 2025 -70th Appearance Day of Sri Srimad Bhaktivedanta Madhava Goswami Maharaja
DESCRIPTION:07th Feb\, 2025 -70th Appearance Day of Sri Srimad Bhaktivedanta Madhava Goswami Maharaja
URL:https://www.gvst.in/event/07th-feb-2025-70th-appearance-day-of-sri-srimad-bhaktivedanta-madhava-goswami-maharaja/
ATTACH;FMTTYPE=image/jpeg:https://www.gvst.in/wp-content/uploads/2025/01/WhatsApp-Image-2025-02-04-at-1.06.20-PM.jpeg
END:VEVENT
BEGIN:VEVENT
DTSTART;VALUE=DATE:20250206
DTEND;VALUE=DATE:20250207
DTSTAMP:20260422T212657
CREATED:20250204T074509Z
LAST-MODIFIED:20250204T074509Z
UID:1723-1738800000-1738886399@www.gvst.in
SUMMARY:06th Feb\, 2025 - Disappearance Day of Sri Madhvacharya
DESCRIPTION:06th Feb\, 2025 – Disappearance Day of Sri Madhvacharya
URL:https://www.gvst.in/event/06th-feb-2025-disappearance-day-of-sri-madhvacharya/
END:VEVENT
BEGIN:VEVENT
DTSTART;VALUE=DATE:20250205
DTEND;VALUE=DATE:20250206
DTSTAMP:20260422T212657
CREATED:20250130T143157Z
LAST-MODIFIED:20250204T073754Z
UID:1704-1738713600-1738799999@www.gvst.in
SUMMARY:05th Feb\, 2025 - Appearance of Adwaita Acharya Prabhu
DESCRIPTION:05th Feb\, 2025 – Appearance of Adwaita Acharya Prabhu
URL:https://www.gvst.in/event/04th-feb-2025-appearance-of-adwaita-acharya-prabhu/
ATTACH;FMTTYPE=image/jpeg:https://www.gvst.in/wp-content/uploads/2025/01/WhatsApp-Image-2025-02-04-at-1.06.22-PM.jpeg
END:VEVENT
BEGIN:VEVENT
DTSTART;VALUE=DATE:20250203
DTEND;VALUE=DATE:20250204
DTSTAMP:20260422T212657
CREATED:20250130T142717Z
LAST-MODIFIED:20250130T142952Z
UID:1698-1738540800-1738627199@www.gvst.in
SUMMARY:03rd Feb\, 2025 - Vasanta Panchami\, Sri Saraswati Puja\, Appearance of Vishnupriya Devi
DESCRIPTION:03rd Feb\, 2025 – Vasanta Panchami\, Sri Saraswati Puja\, Appearance of Vishnupriya Devi \nAppearance of Pundarik Vdiyanidhi\, Raghunath Das\, Raghunandan Thakur \nDisappearance of Srila Viswanath Cakravarti Thakur\, Srila Bhakti Vivek Bharti Maharaja
URL:https://www.gvst.in/event/03rd-feb-2025-vasanta-panchami-sri-saraswati-puja-apperance-of-vishnupriya-devi/
ATTACH;FMTTYPE=image/webp:https://www.gvst.in/wp-content/uploads/2025/01/WhatsApp-Image-2025-01-30-at-7.39.19-PM.webp
END:VEVENT
BEGIN:VEVENT
DTSTART;VALUE=DATE:20250130
DTEND;VALUE=DATE:20250131
DTSTAMP:20260422T212657
CREATED:20250130T142330Z
LAST-MODIFIED:20250130T142437Z
UID:1693-1738195200-1738281599@www.gvst.in
SUMMARY:30th Jan\, 2025 - Disappearance day of Srila Bhakti Gourav Vaikhanas maharaja
DESCRIPTION:30th Jan\, 2025 – Disappearance day of Srila Bhakti Gourav Vaikhanas maharaja
URL:https://www.gvst.in/event/29th-jan-2025-appearance-day-of-srila-bhakti-gourav-vaikhanas-maharaja/
ATTACH;FMTTYPE=image/webp:https://www.gvst.in/wp-content/uploads/2025/01/WhatsApp-Image-2025-01-30-at-7.39.23-PM-1.webp
END:VEVENT
BEGIN:VEVENT
DTSTART;VALUE=DATE:20250129
DTEND;VALUE=DATE:20250130
DTSTAMP:20260422T212657
CREATED:20250130T142214Z
LAST-MODIFIED:20250130T142214Z
UID:1691-1738108800-1738195199@www.gvst.in
SUMMARY:29th Jan\, 2025 - Appearance day of Srila BV Narayana Goswami Maharaja
DESCRIPTION:29th Jan\, 2025 – Appearance day of Srila BV Narayana Goswami Maharaja
URL:https://www.gvst.in/event/29th-jan-2025-appearance-day-of-srila-bv-narayana-goswami-maharaja/
ATTACH;FMTTYPE=image/webp:https://www.gvst.in/wp-content/uploads/2025/01/WhatsApp-Image-2025-01-30-at-7.39.23-PM.webp
END:VEVENT
BEGIN:VEVENT
DTSTART;VALUE=DATE:20250126
DTEND;VALUE=DATE:20250127
DTSTAMP:20260422T212657
CREATED:20250130T142112Z
LAST-MODIFIED:20250130T142112Z
UID:1689-1737849600-1737935999@www.gvst.in
SUMMARY:26th Jan\, 2025 - Appearance day of Srila BV Trivikrama Maharaja
DESCRIPTION:26th Jan\, 2025 – Appearance day of Srila BV Trivikrama Maharaja
URL:https://www.gvst.in/event/26th-jan-2025-appearance-day-of-srila-bv-trivikrama-maharaja/
ATTACH;FMTTYPE=image/webp:https://www.gvst.in/wp-content/uploads/2025/01/WhatsApp-Image-2025-01-30-at-7.39.22-PM-1.webp
END:VEVENT
BEGIN:VEVENT
DTSTART;VALUE=DATE:20250125
DTEND;VALUE=DATE:20250126
DTSTAMP:20260422T212657
CREATED:20250130T141945Z
LAST-MODIFIED:20250130T141945Z
UID:1680-1737763200-1737849599@www.gvst.in
SUMMARY:25th Jan\, 2025 - Sat-Tila Ekadashi
DESCRIPTION:25th Jan\, 2025 – Sat-Tila Ekadashi \nParan Next day – after sunrise before 10:01 am
URL:https://www.gvst.in/event/25th-jan-2025-sat-tila-ekadashi/
ATTACH;FMTTYPE=image/webp:https://www.gvst.in/wp-content/uploads/2025/01/WhatsApp-Image-2025-01-30-at-7.39.22-PM.webp
END:VEVENT
BEGIN:VEVENT
DTSTART;VALUE=DATE:20250123
DTEND;VALUE=DATE:20250124
DTSTAMP:20260422T212657
CREATED:20250110T082101Z
LAST-MODIFIED:20250110T095258Z
UID:1648-1737590400-1737676799@www.gvst.in
SUMMARY:23rd Jan\, 2025 - Disappearance Day of  Srila Locana das thakur
DESCRIPTION:23rd Jan\, 2025 – Disappearance Day of Srila Locana das thakur
URL:https://www.gvst.in/event/20th-jan-2025-disappearance-day-of-srila-locana-das-thakur/
ATTACH;FMTTYPE=image/webp:https://www.gvst.in/wp-content/uploads/2025/01/new-8.webp
END:VEVENT
BEGIN:VEVENT
DTSTART;VALUE=DATE:20250120
DTEND;VALUE=DATE:20250121
DTSTAMP:20260422T212657
CREATED:20250110T081853Z
LAST-MODIFIED:20250110T081853Z
UID:1646-1737331200-1737417599@www.gvst.in
SUMMARY:20th Jan\, 2025 - Disappearance Day of  Srila Jayadeva Gosvami
DESCRIPTION:20th Jan\, 2025 – Disappearance Day of Srila Jayadeva Gosvami
URL:https://www.gvst.in/event/20th-jan-2025-disappearance-day-of-srila-jayadeva-gosvami/
ATTACH;FMTTYPE=image/webp:https://www.gvst.in/wp-content/uploads/2025/01/new-6.webp
END:VEVENT
BEGIN:VEVENT
DTSTART;VALUE=DATE:20250118
DTEND;VALUE=DATE:20250119
DTSTAMP:20260422T212657
CREATED:20250110T081538Z
LAST-MODIFIED:20250110T081712Z
UID:1642-1737158400-1737244799@www.gvst.in
SUMMARY:18th Jan\, 2025 - Disappearance Day of Sri Narahari Sevavigraha Prabhu and Appearance of Srila Bhakti Vaibhav Puri Maharaj
DESCRIPTION:18th Jan\, 2025 – Disappearance Day of Sri Narahari Sevavigraha Prabhu and Appearance of Srila Bhakti Vaibhav Puri Maharaj
URL:https://www.gvst.in/event/18th-jan-2025-disappearance-day-of-sri-narahari-sevavigraha-prabhu-and-appearance-of-bhakti-vaibhav-puri-maharaj/
ATTACH;FMTTYPE=image/webp:https://www.gvst.in/wp-content/uploads/2025/01/new-9.webp
END:VEVENT
BEGIN:VEVENT
DTSTART;VALUE=DATE:20250116
DTEND;VALUE=DATE:20250117
DTSTAMP:20260422T212657
CREATED:20250110T081225Z
LAST-MODIFIED:20250110T081225Z
UID:1640-1736985600-1737071999@www.gvst.in
SUMMARY:16th Jan\, 2025 - Appearance of Srila Gopala Bhatta Gosvami and Disappearance Sri Ramacandra Kaviraja
DESCRIPTION:16th Jan\, 2025 – Appearance ofof Srila Gopala Bhatta Gosvami and Disappearance Sri Ramacandra Kaviraja
URL:https://www.gvst.in/event/16th-jan-2025-appearance-of-srila-gopala-bhatta-gosvami-and-disappearance-sri-ramacandra-kaviraja/
ATTACH;FMTTYPE=image/webp:https://www.gvst.in/wp-content/uploads/2025/01/new-7.webp
END:VEVENT
BEGIN:VEVENT
DTSTART;VALUE=DATE:20250114
DTEND;VALUE=DATE:20250115
DTSTAMP:20260422T212657
CREATED:20250110T080949Z
LAST-MODIFIED:20250110T080949Z
UID:1638-1736812800-1736899199@www.gvst.in
SUMMARY:14th Jan\, 2025 - Makara Sankranti
DESCRIPTION:
URL:https://www.gvst.in/event/14th-jan-2025-makara-sankranti/
ATTACH;FMTTYPE=image/webp:https://www.gvst.in/wp-content/uploads/2025/01/new-4.webp
END:VEVENT
BEGIN:VEVENT
DTSTART;VALUE=DATE:20250110
DTEND;VALUE=DATE:20250111
DTSTAMP:20260422T212657
CREATED:20250110T080325Z
LAST-MODIFIED:20250110T095311Z
UID:1620-1736467200-1736553599@www.gvst.in
SUMMARY:10th Jan\, 2025 - Putrada Ekadasi
DESCRIPTION:10th Jan\, 2025 – Putrada Ekadasi \nParan Time: Next day after sunrise till 7:43 am. \n  \n 
URL:https://www.gvst.in/event/10th-jan-2025-putrada-ekadasi/
END:VEVENT
BEGIN:VEVENT
DTSTART;VALUE=DATE:20250102
DTEND;VALUE=DATE:20250103
DTSTAMP:20260422T212657
CREATED:20250110T080600Z
LAST-MODIFIED:20250110T080600Z
UID:1634-1735776000-1735862399@www.gvst.in
SUMMARY:2nd Jan\, 2025 - Disappearance Day of Srila Jiva Gosvami & Jagadsish Pandit
DESCRIPTION:
URL:https://www.gvst.in/event/2nd-jan-2025-disappearance-day-of-srila-jiva-gosvami-jagadsish-pandit/
END:VEVENT
BEGIN:VEVENT
DTSTART;VALUE=DATE:20240618
DTEND;VALUE=DATE:20240619
DTSTAMP:20260422T212657
CREATED:20240618T033348Z
LAST-MODIFIED:20240618T033348Z
UID:1576-1718668800-1718755199@www.gvst.in
SUMMARY:18th June\, 2024 - Vyanjuli Mahadvadasi
DESCRIPTION:18th June\, 2024 – Vyanjuli Mahadvadasi \nFast Break Next Day – After Sunrise & before 5:51am
URL:https://www.gvst.in/event/18th-june-2024-vyanjuli-mahadvadasi/
ATTACH;FMTTYPE=image/jpeg:https://www.gvst.in/wp-content/uploads/2024/06/18-jun.jpeg
END:VEVENT
BEGIN:VEVENT
DTSTART;VALUE=DATE:20240616
DTEND;VALUE=DATE:20240617
DTSTAMP:20260422T212657
CREATED:20240618T033156Z
LAST-MODIFIED:20240618T033156Z
UID:1574-1718496000-1718582399@www.gvst.in
SUMMARY:16th June\, 2024- Appearance day of Gangamata Goswamini
DESCRIPTION:16th June\, 2024- Appearance day of Gangamata Goswamini & Appearance day of Baladev Vidyabhusan Prabhu
URL:https://www.gvst.in/event/16th-june-2024-appearance-day-of-gangamata-goswamini/
ATTACH;FMTTYPE=image/jpeg:https://www.gvst.in/wp-content/uploads/2024/06/16-jun.jpeg
END:VEVENT
BEGIN:VEVENT
DTSTART;VALUE=DATE:20240603
DTEND;VALUE=DATE:20240604
DTSTAMP:20260422T212657
CREATED:20240618T033018Z
LAST-MODIFIED:20240618T033518Z
UID:1572-1717372800-1717459199@www.gvst.in
SUMMARY:03rd June\, 2024- Apara Ekadashi & Appearance day of Vrindavan Das Thakur
DESCRIPTION:03rd June\, 2024- Apara Ekadashi & Appearance day of Vrindavan Das Thakur
URL:https://www.gvst.in/event/03rd-june-2024-apara-ekadashi-appearance-day-od-vrindavan-das-thakur/
ATTACH;FMTTYPE=image/jpeg:https://www.gvst.in/wp-content/uploads/2024/06/03-june.jpeg
END:VEVENT
BEGIN:VEVENT
DTSTART;VALUE=DATE:20240528
DTEND;VALUE=DATE:20240529
DTSTAMP:20260422T212657
CREATED:20240618T032902Z
LAST-MODIFIED:20240618T032902Z
UID:1570-1716854400-1716940799@www.gvst.in
SUMMARY:28th May\, 2024- Sri Raya Ramananda Disappearance Day
DESCRIPTION:28th May\, 2024- Sri Raya Ramananda Disappearance Day
URL:https://www.gvst.in/event/28th-may-2024-sri-raya-ramananda-disappearance-day/
ATTACH;FMTTYPE=image/jpeg:https://www.gvst.in/wp-content/uploads/2024/06/28.jpeg
END:VEVENT
END:VCALENDAR